BEGIN:VCALENDAR
VERSION:2.0
PRODID:-//Moms with Swords - ECPv6.15.11//NONSGML v1.0//EN
CALSCALE:GREGORIAN
METHOD:PUBLISH
X-ORIGINAL-URL:https://www.momswithswords.com
X-WR-CALDESC:Events for Moms with Swords
REFRESH-INTERVAL;VALUE=DURATION:PT1H
X-Robots-Tag:noindex
X-PUBLISHED-TTL:PT1H
BEGIN:VTIMEZONE
TZID:America/New_York
BEGIN:DAYLIGHT
TZOFFSETFROM:-0500
TZOFFSETTO:-0400
TZNAME:EDT
DTSTART:20170312T070000
END:DAYLIGHT
BEGIN:STANDARD
TZOFFSETFROM:-0400
TZOFFSETTO:-0500
TZNAME:EST
DTSTART:20171105T060000
END:STANDARD
BEGIN:DAYLIGHT
TZOFFSETFROM:-0500
TZOFFSETTO:-0400
TZNAME:EDT
DTSTART:20180311T070000
END:DAYLIGHT
BEGIN:STANDARD
TZOFFSETFROM:-0400
TZOFFSETTO:-0500
TZNAME:EST
DTSTART:20181104T060000
END:STANDARD
BEGIN:DAYLIGHT
TZOFFSETFROM:-0500
TZOFFSETTO:-0400
TZNAME:EDT
DTSTART:20190310T070000
END:DAYLIGHT
BEGIN:STANDARD
TZOFFSETFROM:-0400
TZOFFSETTO:-0500
TZNAME:EST
DTSTART:20191103T060000
END:STANDARD
BEGIN:DAYLIGHT
TZOFFSETFROM:-0500
TZOFFSETTO:-0400
TZNAME:EDT
DTSTART:20200308T070000
END:DAYLIGHT
BEGIN:STANDARD
TZOFFSETFROM:-0400
TZOFFSETTO:-0500
TZNAME:EST
DTSTART:20201101T060000
END:STANDARD
BEGIN:DAYLIGHT
TZOFFSETFROM:-0500
TZOFFSETTO:-0400
TZNAME:EDT
DTSTART:20210314T070000
END:DAYLIGHT
BEGIN:STANDARD
TZOFFSETFROM:-0400
TZOFFSETTO:-0500
TZNAME:EST
DTSTART:20211107T060000
END:STANDARD
BEGIN:DAYLIGHT
TZOFFSETFROM:-0500
TZOFFSETTO:-0400
TZNAME:EDT
DTSTART:20220313T070000
END:DAYLIGHT
BEGIN:STANDARD
TZOFFSETFROM:-0400
TZOFFSETTO:-0500
TZNAME:EST
DTSTART:20221106T060000
END:STANDARD
BEGIN:DAYLIGHT
TZOFFSETFROM:-0500
TZOFFSETTO:-0400
TZNAME:EDT
DTSTART:20230312T070000
END:DAYLIGHT
BEGIN:STANDARD
TZOFFSETFROM:-0400
TZOFFSETTO:-0500
TZNAME:EST
DTSTART:20231105T060000
END:STANDARD
BEGIN:DAYLIGHT
TZOFFSETFROM:-0500
TZOFFSETTO:-0400
TZNAME:EDT
DTSTART:20240310T070000
END:DAYLIGHT
BEGIN:STANDARD
TZOFFSETFROM:-0400
TZOFFSETTO:-0500
TZNAME:EST
DTSTART:20241103T060000
END:STANDARD
BEGIN:DAYLIGHT
TZOFFSETFROM:-0500
TZOFFSETTO:-0400
TZNAME:EDT
DTSTART:20250309T070000
END:DAYLIGHT
BEGIN:STANDARD
TZOFFSETFROM:-0400
TZOFFSETTO:-0500
TZNAME:EST
DTSTART:20251102T060000
END:STANDARD
BEGIN:DAYLIGHT
TZOFFSETFROM:-0500
TZOFFSETTO:-0400
TZNAME:EDT
DTSTART:20260308T070000
END:DAYLIGHT
BEGIN:STANDARD
TZOFFSETFROM:-0400
TZOFFSETTO:-0500
TZNAME:EST
DTSTART:20261101T060000
END:STANDARD
END:VTIMEZONE
BEGIN:VEVENT
DTSTART;TZID=America/New_York:20250821T093000
DTEND;TZID=America/New_York:20250821T113000
DTSTAMP:20260423T105007
CREATED:20250108T145213Z
LAST-MODIFIED:20250808T004909Z
UID:3003-1755768600-1755775800@www.momswithswords.com
SUMMARY:Fall 2025 - Excavate
DESCRIPTION:EXCAVATE - Fall Session 2025\n			\n			\n				\n				\n				\n				\n			\n				\n				\n				\n				\n				\n				\n				\n				\n				\n				\n				\n			\n			\n				\n				\n				\n				\n				\n				\n				\n				\n				\n				\n				\n					And they will rebuild this place from its ancient ruins;    they will restore the ages-old\, once-splendid structures;They will renew Israel’s ruined cities    from the ashes and debris that laid untouched for many generations. \n					Isaiah 61:4\n					 \n				\n			\n			\n				\n				\n				\n				\n			\n				\n				\n				\n				\n				\n				\n				\n				\n				\n				\n				Join us for 8 weeks in our new fall session – Excavate.  \n \nEach week\, we’ll dig deep into God’s Word\, uncovering the spiritual debris that often clutters our hearts—things like doubt\, distraction\, and false beliefs. As we excavate these areas\, we’ll discover how God longs to plant His truth in us so we can reflect His love and wisdom\, especially in how we nurture and guide our children.\n \nThis journey will challenge us to move beyond the surface\, allowing the Lord to transform dry\, broken places in our lives into dwelling places for His presence. Through Scripture\, prayer\, and honest reflection\, we’ll unearth the treasure of God’s purpose\, power\, and peace.\n \nSo grab your shovel—it’s time to dig for treasure!\n			\n			\n				\n				\n				\n				\n			\n				\n				\n			\n				\n				\n				\n				\n				\n				\n				\n				\n				\n				\n				\n				\n				\n				\n				\n				\n				\n				Teaching by Joy Chambley\n			\n				\n				\n				\n				\n				Joy Chambley will be equipping us and teaching from the Word throughout the 8 weeks. God’s calling on Joy’s heart for moms and motherhood is evident in her heartfelt teaching. You will laugh\, cry\, and grow to love Jesus more deeply through her teaching.\n			\n				View Bio\n			\n			\n				\n				\n				\n				\n				\n				\n				\n				\n				\n				\n			\n			\n				\n				\n				\n				\n			\n				\n				\n			\n				\n				\n				\n				\n				\n				\n				\n				\n				\n				\n				\n				\n				\n				\n				\n				\n				\n				\n					\n					\n						Main Session\n						\n					\n				\n			\n				\n				\n				\n				\n				\n			\n			\n				\n				\n				\n				\n				\n				\n				\n				\n				\n				Whether you’re navigating sleepless nights\, toddler tantrums\, or the busyness of school schedules\, Moms With Swords is your space to pause and reconnect. \nStart your morning by grabbing a warm coffee from the coffee bar\, then settle in as we dive into God’s Word together. Our time together will leave you refreshed\, inspired\, and equipped for the beautiful (and sometimes messy) journey of motherhood. \nWe can’t wait to see you there! Come as you are\, and bring a friend if you’d like—there’s always room for more.\n			\n			\n				\n				\n				\n				\n			\n				\n				\n				\n				\n				\n				\n				\n				\n				\n				\n				After the teaching time\, we break into a small group for heart-to-heart conversations. These are your sisters in the trenches—ready to walk beside you\, cheer you on\, and lift you up in prayer.\n			\n				Small Group Leader Bios\n			\n			\n				\n				\n				\n				\n				\n				\n				\n				\n				\n				\n					\n					\n						Small Groups\n						\n					\n				\n			\n			\n				\n				\n				\n				\n			\n				\n				\n				\n				\n				\n				\n				\n				\n				\n				\n				\n					\n					\n						Free Childcare\n						\n					\n				\n			\n			\n				\n				\n				\n				\n				\n				\n				\n				\n				\n				Bring your little ones to the safe\, loving care of our dedicated childcare workers\, so you can fully focus on recharging your heart and mind during both the main session and your small group time. \nRegister each child needing care below to reserve your spot!
URL:https://www.momswithswords.com/event/fall-2025-excavate/
LOCATION:West Cobb Church\, 1245 Villa Rica Road\, Marietta\, GA\, 30064\, United States
ORGANIZER;CN="Moms With Swords":MAILTO:info@momswithswords.com
END:VEVENT
BEGIN:VEVENT
DTSTART;TZID=America/New_York:20241212T093000
DTEND;TZID=America/New_York:20241212T113000
DTSTAMP:20260423T105007
CREATED:20241113T162612Z
LAST-MODIFIED:20241113T162612Z
UID:2983-1733995800-1734003000@www.momswithswords.com
SUMMARY:Moms With Swords Christmas Party
DESCRIPTION:Hey Moms With Swords!\nIt’s time for our Christmas Party!\n  \nDetails: \n📍 3595 West Hampton Drive NW\, Marietta\, GA 30064\n📅 Date: December 12th\n⏰ Time: 9:30 AM\n🎩 Theme: Wear your favorite Ugly Christmas sweater or other festive outfit\n🚫 Note: No childcare is provided. \nCome ready to play some hilarious games\, chat with friends\, and dive into delicious holiday treats. \nYour mission\, should you choose to accept it: bring a festive snack to share! Click on the link below to sign up and let us know what you’ll bring. \nSIGN UP GENIUS LINK\nCan’t wait to celebrate a holly\, jolly Christmas with all of you!
URL:https://www.momswithswords.com/event/moms-with-swords-christmas-party/
LOCATION:West Hampton Clubhouse\, 3595 West Hampton Dr NW\, Marietta\, GA\, 30064\, United States
END:VEVENT
BEGIN:VEVENT
DTSTART;TZID=America/New_York:20180301T093000
DTEND;TZID=America/New_York:20180301T113000
DTSTAMP:20260423T105007
CREATED:20180227T155013Z
LAST-MODIFIED:20180227T155013Z
UID:2097-1519896600-1519903800@www.momswithswords.com
SUMMARY:The Table
DESCRIPTION:
URL:https://www.momswithswords.com/event/the-table/
LOCATION:GA
END:VEVENT
END:VCALENDAR